Package: COSNet Version: 1.42.0 Command: rm -rf COSNet.buildbin-libdir && mkdir COSNet.buildbin-libdir && /Users/biocbuild/BBS/utils/build-universal.sh COSNet_1.42.0.tar.gz /Library/Frameworks/R.framework/Resources/bin/R COSNet.buildbin-libdir StartedAt: 2025-10-15 18:00:58 -0400 (Wed, 15 Oct 2025) EndedAt: 2025-10-15 18:01:04 -0400 (Wed, 15 Oct 2025) EllapsedTime: 5.7 seconds RetCode: 0 Status: OK PackageFile: COSNet_1.42.0.tgz PackageFileSize: 560.3 KiB