Package: CONFESS Version: 1.36.0 Command: rm -rf CONFESS.buildbin-libdir && mkdir CONFESS.buildbin-libdir && /Users/biocbuild/BBS/utils/build-universal.sh CONFESS_1.36.0.tar.gz /Library/Frameworks/R.framework/Resources/bin/R CONFESS.buildbin-libdir StartedAt: 2025-04-22 00:39:42 -0400 (Tue, 22 Apr 2025) EndedAt: 2025-04-22 00:41:21 -0400 (Tue, 22 Apr 2025) EllapsedTime: 99.0 seconds RetCode: 0 Status: OK PackageFile: CONFESS_1.36.0.tgz PackageFileSize: 3.105 MiB