Package: CONFESS Version: 1.36.0 Command: /home/biocbuild/R/R/bin/R CMD build --keep-empty-dirs --no-resave-data CONFESS StartedAt: 2025-10-13 23:49:52 -0000 (Mon, 13 Oct 2025) EndedAt: 2025-10-13 23:54:03 -0000 (Mon, 13 Oct 2025) EllapsedTime: 251.1 seconds RetCode: 0 Status: OK PackageFile: CONFESS_1.36.0.tar.gz PackageFileSize: 3.604 MiB