Package: CONFESS Version: 1.36.0 Command: rm -rf CONFESS.buildbin-libdir && mkdir CONFESS.buildbin-libdir && /Users/biocbuild/BBS/utils/build-universal.sh CONFESS_1.36.0.tar.gz /Library/Frameworks/R.framework/Resources/bin/R CONFESS.buildbin-libdir StartedAt: 2025-10-15 17:58:49 -0400 (Wed, 15 Oct 2025) EndedAt: 2025-10-15 18:00:03 -0400 (Wed, 15 Oct 2025) EllapsedTime: 73.8 seconds RetCode: 0 Status: OK PackageFile: CONFESS_1.36.0.tgz PackageFileSize: 3.104 MiB