Package: COMPASS Version: 1.46.0 Command: /home/biocbuild/bbs-3.21-bioc/R/bin/R CMD INSTALL COMPASS StartedAt: 2025-10-15 15:08:18 -0400 (Wed, 15 Oct 2025) EndedAt: 2025-10-15 15:09:08 -0400 (Wed, 15 Oct 2025) EllapsedTime: 50.5 seconds RetCode: 0 Status: OK