Package: COMPASS Version: 1.46.0 Command: /home/biocbuild/bbs-3.21-bioc/R/bin/R CMD build --keep-empty-dirs --no-resave-data COMPASS StartedAt: 2025-10-15 16:52:27 -0400 (Wed, 15 Oct 2025) EndedAt: 2025-10-15 16:57:23 -0400 (Wed, 15 Oct 2025) EllapsedTime: 296.3 seconds RetCode: 0 Status: OK PackageFile: COMPASS_1.46.0.tar.gz PackageFileSize: 1.259 MiB