Package: COMPASS Version: 1.46.0 Command: /Library/Frameworks/R.framework/Resources/bin/R CMD build --keep-empty-dirs --no-resave-data COMPASS StartedAt: 2025-10-13 18:04:24 -0400 (Mon, 13 Oct 2025) EndedAt: 2025-10-13 18:17:44 -0400 (Mon, 13 Oct 2025) EllapsedTime: 799.3 seconds RetCode: 0 Status: OK PackageFile: COMPASS_1.46.0.tar.gz PackageFileSize: 1.305 MiB