Package: COMPASS Version: 1.46.0 Command: rm -rf COMPASS.buildbin-libdir && mkdir COMPASS.buildbin-libdir && /Users/biocbuild/BBS/utils/build-universal.sh COMPASS_1.46.0.tar.gz /Library/Frameworks/R.framework/Resources/bin/R COMPASS.buildbin-libdir StartedAt: 2025-10-14 13:06:42 -0400 (Tue, 14 Oct 2025) EndedAt: 2025-10-14 13:07:27 -0400 (Tue, 14 Oct 2025) EllapsedTime: 44.3 seconds RetCode: 0 Status: OK PackageFile: COMPASS_1.46.0.tgz PackageFileSize: 1.42 MiB