Package: COMPASS Version: 1.46.0 Command: /home/biocbuild/R/R/bin/R CMD build --keep-empty-dirs --no-resave-data COMPASS StartedAt: 2025-10-13 23:47:55 -0000 (Mon, 13 Oct 2025) EndedAt: 2025-10-13 23:53:29 -0000 (Mon, 13 Oct 2025) EllapsedTime: 334.1 seconds RetCode: 0 Status: OK PackageFile: COMPASS_1.46.0.tar.gz PackageFileSize: 1.262 MiB