Package: COMPASS Version: 1.46.0 Command: /Library/Frameworks/R.framework/Resources/bin/R CMD INSTALL COMPASS StartedAt: 2025-10-13 15:23:29 -0400 (Mon, 13 Oct 2025) EndedAt: 2025-10-13 15:24:13 -0400 (Mon, 13 Oct 2025) EllapsedTime: 43.5 seconds RetCode: 0 Status: OK