Package: COMPASS Version: 1.46.0 Command: /Library/Frameworks/R.framework/Resources/bin/R CMD build --keep-empty-dirs --no-resave-data COMPASS StartedAt: 2025-10-13 21:45:35 -0400 (Mon, 13 Oct 2025) EndedAt: 2025-10-13 21:50:31 -0400 (Mon, 13 Oct 2025) EllapsedTime: 296.7 seconds RetCode: 0 Status: OK PackageFile: COMPASS_1.46.0.tar.gz PackageFileSize: 1.305 MiB