Package: CODEX Version: 1.40.0 Command: /Library/Frameworks/R.framework/Resources/bin/R CMD INSTALL CODEX StartedAt: 2025-04-21 15:28:58 -0400 (Mon, 21 Apr 2025) EndedAt: 2025-04-21 15:29:39 -0400 (Mon, 21 Apr 2025) EllapsedTime: 41.4 seconds RetCode: 0 Status: OK