Package: CODEX Version: 1.40.0 Command: /home/biocbuild/R/R/bin/R CMD INSTALL CODEX StartedAt: 2025-10-13 20:49:45 -0000 (Mon, 13 Oct 2025) EndedAt: 2025-10-13 20:50:30 -0000 (Mon, 13 Oct 2025) EllapsedTime: 44.4 seconds RetCode: 0 Status: OK