Package: COCOA Version: 2.22.0 Command: /home/biocbuild/R/R/bin/R CMD INSTALL COCOA StartedAt: 2025-10-13 20:53:28 -0000 (Mon, 13 Oct 2025) EndedAt: 2025-10-13 20:54:33 -0000 (Mon, 13 Oct 2025) EllapsedTime: 64.7 seconds RetCode: 0 Status: OK