Package: COCOA Version: 2.22.0 Command: /home/biocbuild/R/R/bin/R CMD build --keep-empty-dirs --no-resave-data COCOA StartedAt: 2025-10-13 23:44:30 -0000 (Mon, 13 Oct 2025) EndedAt: 2025-10-13 23:47:31 -0000 (Mon, 13 Oct 2025) EllapsedTime: 181.0 seconds RetCode: 0 Status: OK PackageFile: COCOA_2.22.0.tar.gz PackageFileSize: 3.393 MiB