Package: CNVrd2 Version: 1.46.0 Maintainer: Hoang Tan Nguyen MaintainerEmail: hoangtannguyenvn at gmail.com git_url: https://git.bioconductor.org/packages/CNVrd2 git_branch: RELEASE_3_21 git_last_commit: a9e11c4 git_last_commit_date: 2025-04-15 10:27:38 -0400 (Tue, 15 Apr 2025)