Package: CNVMetrics Version: 1.12.0 Command: /home/biocbuild/R/R/bin/R CMD build --keep-empty-dirs --no-resave-data CNVMetrics StartedAt: 2025-10-13 23:43:57 -0000 (Mon, 13 Oct 2025) EndedAt: 2025-10-13 23:44:54 -0000 (Mon, 13 Oct 2025) EllapsedTime: 57.0 seconds RetCode: 0 Status: OK PackageFile: CNVMetrics_1.12.0.tar.gz PackageFileSize: 4.677 MiB