Package: CNTools Version: 1.64.0 Command: /home/biocbuild/R/R/bin/R CMD INSTALL CNTools StartedAt: 2025-10-13 20:43:08 -0000 (Mon, 13 Oct 2025) EndedAt: 2025-10-13 20:43:34 -0000 (Mon, 13 Oct 2025) EllapsedTime: 26.5 seconds RetCode: 0 Status: OK