Package: CNTools Version: 1.64.0 Command: /Library/Frameworks/R.framework/Resources/bin/R CMD INSTALL CNTools StartedAt: 2025-10-13 15:50:44 -0400 (Mon, 13 Oct 2025) EndedAt: 2025-10-13 15:51:06 -0400 (Mon, 13 Oct 2025) EllapsedTime: 21.7 seconds RetCode: 0 Status: OK