Package: CNORode Version: 1.50.0 Command: /home/biocbuild/bbs-3.21-bioc/R/bin/R CMD INSTALL CNORode StartedAt: 2025-10-15 15:36:58 -0400 (Wed, 15 Oct 2025) EndedAt: 2025-10-15 15:37:15 -0400 (Wed, 15 Oct 2025) EllapsedTime: 16.9 seconds RetCode: 0 Status: OK