Package: CNORode Version: 1.50.0 Command: /home/biocbuild/bbs-3.21-bioc/R/bin/R CMD build --keep-empty-dirs --no-resave-data CNORode StartedAt: 2025-10-15 16:49:26 -0400 (Wed, 15 Oct 2025) EndedAt: 2025-10-15 16:49:56 -0400 (Wed, 15 Oct 2025) EllapsedTime: 30.0 seconds RetCode: 0 Status: OK PackageFile: CNORode_1.50.0.tar.gz PackageFileSize: 486.2 KiB