Package: CNORode Version: 1.50.0 Command: /Library/Frameworks/R.framework/Resources/bin/R CMD INSTALL CNORode StartedAt: 2025-10-13 15:59:34 -0400 (Mon, 13 Oct 2025) EndedAt: 2025-10-13 15:59:55 -0400 (Mon, 13 Oct 2025) EllapsedTime: 20.8 seconds RetCode: 0 Status: OK