Package: CNORode Version: 1.50.0 Command: /Library/Frameworks/R.framework/Resources/bin/R CMD build --keep-empty-dirs --no-resave-data CNORode StartedAt: 2025-10-13 21:36:33 -0400 (Mon, 13 Oct 2025) EndedAt: 2025-10-13 21:37:14 -0400 (Mon, 13 Oct 2025) EllapsedTime: 40.5 seconds RetCode: 0 Status: OK PackageFile: CNORode_1.50.0.tar.gz PackageFileSize: 518.1 KiB