Package: CNORfuzzy Version: 1.50.0 Command: /Library/Frameworks/R.framework/Resources/bin/R CMD INSTALL CNORfuzzy StartedAt: 2025-10-13 15:28:38 -0400 (Mon, 13 Oct 2025) EndedAt: 2025-10-13 15:29:02 -0400 (Mon, 13 Oct 2025) EllapsedTime: 23.2 seconds RetCode: 0 Status: OK