Package: CNORfuzzy Version: 1.50.0 Command: /Library/Frameworks/R.framework/Resources/bin/R CMD build --keep-empty-dirs --no-resave-data CNORfuzzy StartedAt: 2025-10-13 18:00:58 -0400 (Mon, 13 Oct 2025) EndedAt: 2025-10-13 18:01:56 -0400 (Mon, 13 Oct 2025) EllapsedTime: 57.8 seconds RetCode: 0 Status: OK PackageFile: CNORfuzzy_1.50.0.tar.gz PackageFileSize: 920.2 KiB