Package: CNORfuzzy Version: 1.50.0 Command: /home/biocbuild/R/R/bin/R CMD INSTALL CNORfuzzy StartedAt: 2025-10-13 20:27:07 -0000 (Mon, 13 Oct 2025) EndedAt: 2025-10-13 20:27:26 -0000 (Mon, 13 Oct 2025) EllapsedTime: 18.8 seconds RetCode: 0 Status: OK