Package: CNORfuzzy Version: 1.50.0 Command: /home/biocbuild/R/R/bin/R CMD build --keep-empty-dirs --no-resave-data CNORfuzzy StartedAt: 2025-10-13 23:43:26 -0000 (Mon, 13 Oct 2025) EndedAt: 2025-10-13 23:43:56 -0000 (Mon, 13 Oct 2025) EllapsedTime: 30.0 seconds RetCode: 0 Status: OK PackageFile: CNORfuzzy_1.50.0.tar.gz PackageFileSize: 911.6 KiB