Package: CNORfuzzy Version: 1.50.0 Command: /Library/Frameworks/R.framework/Resources/bin/R CMD INSTALL CNORfuzzy StartedAt: 2025-10-13 15:41:08 -0400 (Mon, 13 Oct 2025) EndedAt: 2025-10-13 15:41:20 -0400 (Mon, 13 Oct 2025) EllapsedTime: 11.6 seconds RetCode: 0 Status: OK