Package: CNORfuzzy Version: 1.50.0 Command: /Library/Frameworks/R.framework/Resources/bin/R CMD build --keep-empty-dirs --no-resave-data CNORfuzzy StartedAt: 2025-10-13 21:36:17 -0400 (Mon, 13 Oct 2025) EndedAt: 2025-10-13 21:36:51 -0400 (Mon, 13 Oct 2025) EllapsedTime: 33.8 seconds RetCode: 0 Status: OK PackageFile: CNORfuzzy_1.50.0.tar.gz PackageFileSize: 921.7 KiB