Package: CINdex Version: 1.36.0 Command: /home/biocbuild/bbs-3.21-bioc/R/bin/R CMD INSTALL CINdex StartedAt: 2025-10-15 15:16:07 -0400 (Wed, 15 Oct 2025) EndedAt: 2025-10-15 15:16:30 -0400 (Wed, 15 Oct 2025) EllapsedTime: 22.7 seconds RetCode: 0 Status: OK