Package: CINdex Version: 1.36.0 Command: /home/biocbuild/bbs-3.21-bioc/R/bin/R CMD build --keep-empty-dirs --no-resave-data CINdex StartedAt: 2025-10-15 16:45:23 -0400 (Wed, 15 Oct 2025) EndedAt: 2025-10-15 16:48:40 -0400 (Wed, 15 Oct 2025) EllapsedTime: 197.2 seconds RetCode: 0 Status: OK PackageFile: CINdex_1.36.0.tar.gz PackageFileSize: 12.51 MiB