Package: CINdex Version: 1.36.0 Command: /home/biocbuild/R/R/bin/R CMD INSTALL CINdex StartedAt: 2025-10-13 20:29:10 -0000 (Mon, 13 Oct 2025) EndedAt: 2025-10-13 20:29:42 -0000 (Mon, 13 Oct 2025) EllapsedTime: 32.2 seconds RetCode: 0 Status: OK