Package: CINdex Version: 1.36.0 Command: /home/biocbuild/R/R/bin/R CMD build --keep-empty-dirs --no-resave-data CINdex StartedAt: 2025-10-13 23:37:12 -0000 (Mon, 13 Oct 2025) EndedAt: 2025-10-13 23:43:00 -0000 (Mon, 13 Oct 2025) EllapsedTime: 347.7 seconds RetCode: 0 Status: OK PackageFile: CINdex_1.36.0.tar.gz PackageFileSize: 12.55 MiB