Package: CIMICE Version: 1.16.0 Command: /home/biocbuild/R/R/bin/R CMD INSTALL CIMICE StartedAt: 2025-10-13 20:25:26 -0000 (Mon, 13 Oct 2025) EndedAt: 2025-10-13 20:25:41 -0000 (Mon, 13 Oct 2025) EllapsedTime: 14.5 seconds RetCode: 0 Status: OK