Package: CIMICE Version: 1.16.0 Command: /home/biocbuild/R/R/bin/R CMD build --keep-empty-dirs --no-resave-data CIMICE StartedAt: 2025-10-13 23:36:51 -0000 (Mon, 13 Oct 2025) EndedAt: 2025-10-13 23:37:28 -0000 (Mon, 13 Oct 2025) EllapsedTime: 37.0 seconds RetCode: 0 Status: OK PackageFile: CIMICE_1.16.0.tar.gz PackageFileSize: 1.671 MiB