Package: CHRONOS Version: 1.36.0 Command: /home/biocbuild/R/R/bin/R CMD build --keep-empty-dirs --no-resave-data CHRONOS StartedAt: 2025-10-13 23:36:46 -0000 (Mon, 13 Oct 2025) EndedAt: 2025-10-13 23:38:55 -0000 (Mon, 13 Oct 2025) EllapsedTime: 128.6 seconds RetCode: 1 Status: ERROR PackageFile: None PackageFileSize: NA