Package: CHRONOS Version: 1.36.0 Command: /Library/Frameworks/R.framework/Resources/bin/R CMD build --keep-empty-dirs --no-resave-data CHRONOS StartedAt: 2025-10-13 21:11:35 -0400 (Mon, 13 Oct 2025) EndedAt: 2025-10-13 21:51:35 -0400 (Mon, 13 Oct 2025) EllapsedTime: 2400.1 seconds RetCode: None Status: TIMEOUT PackageFile: None PackageFileSize: NA