Package: CGHnormaliter Version: 1.62.0 Command: /home/biocbuild/bbs-3.21-bioc/R/bin/R CMD build --keep-empty-dirs --no-resave-data CGHnormaliter StartedAt: 2025-10-15 16:41:37 -0400 (Wed, 15 Oct 2025) EndedAt: 2025-10-15 16:42:25 -0400 (Wed, 15 Oct 2025) EllapsedTime: 47.0 seconds RetCode: 0 Status: OK PackageFile: CGHnormaliter_1.62.0.tar.gz PackageFileSize: 1.245 MiB