Package: CGHnormaliter Version: 1.62.0 Command: /home/biocbuild/R/R/bin/R CMD build --keep-empty-dirs --no-resave-data CGHnormaliter StartedAt: 2025-10-13 23:32:12 -0000 (Mon, 13 Oct 2025) EndedAt: 2025-10-13 23:33:27 -0000 (Mon, 13 Oct 2025) EllapsedTime: 75.0 seconds RetCode: 0 Status: OK PackageFile: CGHnormaliter_1.62.0.tar.gz PackageFileSize: 1.239 MiB