Package: CGHnormaliter Version: 1.62.0 Command: /Library/Frameworks/R.framework/Resources/bin/R CMD INSTALL CGHnormaliter StartedAt: 2025-10-13 15:58:51 -0400 (Mon, 13 Oct 2025) EndedAt: 2025-10-13 15:58:57 -0400 (Mon, 13 Oct 2025) EllapsedTime: 5.7 seconds RetCode: 0 Status: OK