Package: CGHcall Version: 2.70.0 Command: /home/biocbuild/R/R/bin/R CMD INSTALL CGHcall StartedAt: 2025-10-13 20:25:58 -0000 (Mon, 13 Oct 2025) EndedAt: 2025-10-13 20:26:04 -0000 (Mon, 13 Oct 2025) EllapsedTime: 6.8 seconds RetCode: 0 Status: OK