Package: CGHbase Version: 1.68.0 Command: /home/biocbuild/R/R/bin/R CMD INSTALL CGHbase StartedAt: 2025-10-13 20:25:38 -0000 (Mon, 13 Oct 2025) EndedAt: 2025-10-13 20:25:47 -0000 (Mon, 13 Oct 2025) EllapsedTime: 8.6 seconds RetCode: 0 Status: OK