Package: CGHbase Version: 1.68.0 Command: /home/biocbuild/R/R/bin/R CMD build --keep-empty-dirs --no-resave-data CGHbase StartedAt: 2025-10-13 23:31:57 -0000 (Mon, 13 Oct 2025) EndedAt: 2025-10-13 23:31:58 -0000 (Mon, 13 Oct 2025) EllapsedTime: 1.0 seconds RetCode: 0 Status: OK PackageFile: CGHbase_1.68.0.tar.gz PackageFileSize: 848 KiB