Package: CEMiTool Version: 1.32.2 Command: /home/biocbuild/bbs-3.21-bioc/R/bin/R CMD INSTALL CEMiTool StartedAt: 2025-10-15 15:48:39 -0400 (Wed, 15 Oct 2025) EndedAt: 2025-10-15 15:49:07 -0400 (Wed, 15 Oct 2025) EllapsedTime: 27.9 seconds RetCode: 0 Status: OK