Package: CEMiTool Version: 1.32.2 Command: /home/biocbuild/R/R/bin/R CMD INSTALL CEMiTool StartedAt: 2025-10-13 21:07:31 -0000 (Mon, 13 Oct 2025) EndedAt: 2025-10-13 21:08:11 -0000 (Mon, 13 Oct 2025) EllapsedTime: 40.5 seconds RetCode: 0 Status: OK