Package: CEMiTool Version: 1.32.2 Command: /home/biocbuild/R/R/bin/R CMD build --keep-empty-dirs --no-resave-data CEMiTool StartedAt: 2025-10-13 23:29:51 -0000 (Mon, 13 Oct 2025) EndedAt: 2025-10-13 23:32:54 -0000 (Mon, 13 Oct 2025) EllapsedTime: 183.1 seconds RetCode: 0 Status: OK PackageFile: CEMiTool_1.32.2.tar.gz PackageFileSize: 5.466 MiB