Package: CEMiTool Version: 1.32.0 Command: /Library/Frameworks/R.framework/Resources/bin/R CMD INSTALL CEMiTool StartedAt: 2025-04-21 15:24:28 -0400 (Mon, 21 Apr 2025) EndedAt: 2025-04-21 15:24:39 -0400 (Mon, 21 Apr 2025) EllapsedTime: 11.4 seconds RetCode: 0 Status: OK