Package: CEMiTool Version: 1.32.2 Maintainer: Helder Nakaya MaintainerEmail: hnakaya at usp.br git_url: https://git.bioconductor.org/packages/CEMiTool git_branch: RELEASE_3_21 git_last_commit: a7e6d01 git_last_commit_date: 2025-09-29 09:23:42 -0400 (Mon, 29 Sep 2025)