Package: CCPlotR Version: 1.6.0 Command: /Library/Frameworks/R.framework/Resources/bin/R CMD INSTALL CCPlotR StartedAt: 2025-10-13 15:26:44 -0400 (Mon, 13 Oct 2025) EndedAt: 2025-10-13 15:27:18 -0400 (Mon, 13 Oct 2025) EllapsedTime: 34.8 seconds RetCode: 0 Status: OK