Package: CCPlotR Version: 1.6.0 Command: rm -rf CCPlotR.buildbin-libdir && mkdir CCPlotR.buildbin-libdir && /Users/biocbuild/BBS/utils/build-universal.sh CCPlotR_1.6.0.tar.gz /Library/Frameworks/R.framework/Resources/bin/R CCPlotR.buildbin-libdir StartedAt: 2025-10-14 12:59:05 -0400 (Tue, 14 Oct 2025) EndedAt: 2025-10-14 12:59:40 -0400 (Tue, 14 Oct 2025) EllapsedTime: 34.5 seconds RetCode: 0 Status: OK PackageFile: CCPlotR_1.6.0.tgz PackageFileSize: 2.763 MiB